BEGIN:VCALENDAR
VERSION:2.0
PRODID:-//3nity.com//3nity CMS//EN
BEGIN:VEVENT
SUMMARY:Speaking Engagement (How To Fix Your Spouse) - Big Lake, MN
UID:2026-07-18-1216141@www.daretobedifferent.com
SEQUENCE:0
STATUS:CONFIRMED
DTSTART:20261004T090000
DTEND:20261004T100000
DTSTAMP:20161222T120000
DESCRIPTION:
URL:http://www.daretobedifferent.com
END:VEVENT
END:VCALENDAR
